BEGIN:VCALENDAR
VERSION:2.0
PRODID:-//Dummerston Library - ECPv6.15.16//NONSGML v1.0//EN
CALSCALE:GREGORIAN
METHOD:PUBLISH
X-ORIGINAL-URL:https://dummerstonlibrary.org
X-WR-CALDESC:Events for Dummerston Library
REFRESH-INTERVAL;VALUE=DURATION:PT1H
X-Robots-Tag:noindex
X-PUBLISHED-TTL:PT1H
BEGIN:VTIMEZONE
TZID:America/New_York
BEGIN:DAYLIGHT
TZOFFSETFROM:-0500
TZOFFSETTO:-0400
TZNAME:EDT
DTSTART:20250309T070000
END:DAYLIGHT
BEGIN:STANDARD
TZOFFSETFROM:-0400
TZOFFSETTO:-0500
TZNAME:EST
DTSTART:20251102T060000
END:STANDARD
BEGIN:DAYLIGHT
TZOFFSETFROM:-0500
TZOFFSETTO:-0400
TZNAME:EDT
DTSTART:20260308T070000
END:DAYLIGHT
BEGIN:STANDARD
TZOFFSETFROM:-0400
TZOFFSETTO:-0500
TZNAME:EST
DTSTART:20261101T060000
END:STANDARD
BEGIN:DAYLIGHT
TZOFFSETFROM:-0500
TZOFFSETTO:-0400
TZNAME:EDT
DTSTART:20270314T070000
END:DAYLIGHT
BEGIN:STANDARD
TZOFFSETFROM:-0400
TZOFFSETTO:-0500
TZNAME:EST
DTSTART:20271107T060000
END:STANDARD
END:VTIMEZONE
BEGIN:VEVENT
DTSTART;TZID=America/New_York:20260523T100000
DTEND;TZID=America/New_York:20260523T140000
DTSTAMP:20260424T130428
CREATED:20260419T195920Z
LAST-MODIFIED:20260419T195920Z
UID:2913-1779530400-1779544800@dummerstonlibrary.org
SUMMARY:Library Closed
DESCRIPTION:Closed for Memorial Day weekend.
URL:https://dummerstonlibrary.org/event/library-closed-8/
LOCATION:Dummerston Community Center and Library\, 150 West Street\, Dummerston\, VT\, United States
CATEGORIES:closures
END:VEVENT
BEGIN:VEVENT
DTSTART;TZID=America/New_York:20260525T100000
DTEND;TZID=America/New_York:20260525T150000
DTSTAMP:20260424T130428
CREATED:20260419T195837Z
LAST-MODIFIED:20260419T200024Z
UID:2911-1779703200-1779721200@dummerstonlibrary.org
SUMMARY:Library Closed
DESCRIPTION:Closed for Memorial Day
URL:https://dummerstonlibrary.org/event/library-closed-7/
LOCATION:Dummerston Community Center and Library\, 150 West Street\, Dummerston\, VT\, United States
CATEGORIES:closures
END:VEVENT
END:VCALENDAR