BEGIN:VCALENDAR
VERSION:2.0
PRODID:-//Dummerston Library - ECPv6.15.16//NONSGML v1.0//EN
CALSCALE:GREGORIAN
METHOD:PUBLISH
X-WR-CALNAME:Dummerston Library
X-ORIGINAL-URL:https://dummerstonlibrary.org
X-WR-CALDESC:Events for Dummerston Library
REFRESH-INTERVAL;VALUE=DURATION:PT1H
X-Robots-Tag:noindex
X-PUBLISHED-TTL:PT1H
BEGIN:VTIMEZONE
TZID:America/New_York
BEGIN:DAYLIGHT
TZOFFSETFROM:-0500
TZOFFSETTO:-0400
TZNAME:EDT
DTSTART:20250309T070000
END:DAYLIGHT
BEGIN:STANDARD
TZOFFSETFROM:-0400
TZOFFSETTO:-0500
TZNAME:EST
DTSTART:20251102T060000
END:STANDARD
BEGIN:DAYLIGHT
TZOFFSETFROM:-0500
TZOFFSETTO:-0400
TZNAME:EDT
DTSTART:20260308T070000
END:DAYLIGHT
BEGIN:STANDARD
TZOFFSETFROM:-0400
TZOFFSETTO:-0500
TZNAME:EST
DTSTART:20261101T060000
END:STANDARD
BEGIN:DAYLIGHT
TZOFFSETFROM:-0500
TZOFFSETTO:-0400
TZNAME:EDT
DTSTART:20270314T070000
END:DAYLIGHT
BEGIN:STANDARD
TZOFFSETFROM:-0400
TZOFFSETTO:-0500
TZNAME:EST
DTSTART:20271107T060000
END:STANDARD
END:VTIMEZONE
BEGIN:VEVENT
DTSTART;TZID=America/New_York:20260523T100000
DTEND;TZID=America/New_York:20260523T140000
DTSTAMP:20260424T153449
CREATED:20260419T195920Z
LAST-MODIFIED:20260419T195920Z
UID:2913-1779530400-1779544800@dummerstonlibrary.org
SUMMARY:Library Closed
DESCRIPTION:Closed for Memorial Day weekend.
URL:https://dummerstonlibrary.org/event/library-closed-8/
LOCATION:Dummerston Community Center and Library\, 150 West Street\, Dummerston\, VT\, United States
CATEGORIES:closures
END:VEVENT
BEGIN:VEVENT
DTSTART;TZID=America/New_York:20260525T100000
DTEND;TZID=America/New_York:20260525T150000
DTSTAMP:20260424T153449
CREATED:20260419T195837Z
LAST-MODIFIED:20260419T200024Z
UID:2911-1779703200-1779721200@dummerstonlibrary.org
SUMMARY:Library Closed
DESCRIPTION:Closed for Memorial Day
URL:https://dummerstonlibrary.org/event/library-closed-7/
LOCATION:Dummerston Community Center and Library\, 150 West Street\, Dummerston\, VT\, United States
CATEGORIES:closures
END:VEVENT
BEGIN:VEVENT
DTSTART;TZID=America/New_York:20260526T160000
DTEND;TZID=America/New_York:20260526T180000
DTSTAMP:20260424T153449
CREATED:20260419T203416Z
LAST-MODIFIED:20260419T203416Z
UID:2931-1779811200-1779818400@dummerstonlibrary.org
SUMMARY:Magic: The Gathering Play & Learn Club
DESCRIPTION:Tuesday\, May 12 and 26 \n4:00pm-6:00pm \nAges 8-14 \nThis drop-in group will meet on the second and fourth Tuesday of each month at the Dummerston Community Center and Library. No prior experience needed—just bring your curiosity and a love for strategy! Join us to cast spells\, summon creatures\, and battle your way to becoming a planeswalker! Hosted by math teacher and MTG enthusiast Ryan Kripp. Cards provided by MagiKids.
URL:https://dummerstonlibrary.org/event/magic-the-gathering-play-learn-club/
LOCATION:Dummerston Community Center and Library\, 150 West Street\, Dummerston\, VT\, United States
CATEGORIES:children,tweens/teens
END:VEVENT
BEGIN:VEVENT
DTSTART;TZID=America/New_York:20260530T130000
DTEND;TZID=America/New_York:20260530T140000
DTSTAMP:20260424T153449
CREATED:20260415T175147Z
LAST-MODIFIED:20260415T175202Z
UID:2900-1780146000-1780149600@dummerstonlibrary.org
SUMMARY:Lydia Taft Pratt Book Club
DESCRIPTION:Saturday\, May 30th.. \n1:00pm-2:00pm \nMay’s book club pick is The Tea Girl of Hummingbird Lane by Lisa See. New members are always welcome at the book club! The book club meets on the last Saturday of the month. We’d love to have YOU at our book club! Hope to see you soon!
URL:https://dummerstonlibrary.org/event/2900/
LOCATION:Dummerston Community Center and Library\, 150 West Street\, Dummerston\, VT\, United States
CATEGORIES:adults,book club
END:VEVENT
BEGIN:VEVENT
DTSTART;TZID=America/New_York:20260623T173000
DTEND;TZID=America/New_York:20260623T183000
DTSTAMP:20260424T153449
CREATED:20260416T183412Z
LAST-MODIFIED:20260416T183557Z
UID:2907-1782235800-1782239400@dummerstonlibrary.org
SUMMARY:Cookbook Club
DESCRIPTION:Tuesday\, June 23rd from 5:30pm-6:30pm. Theme TBD. \nA cookbook club is like a traditional book club\, but instead of talking about a book you’ve all read\, you all make and bring a recipe from a cookbook. Everyone is welcome at the cookbook club\, even if you didn’t cook anything! \n  \nJuly: There will be no July Cookbook Club. \nAugust: August 18th will be a Community Cookbook Club. Picnic/Sandwich Theme (with a grill available).
URL:https://dummerstonlibrary.org/event/cookbook-club-6/
LOCATION:Dummerston Community Center and Library\, 150 West Street\, Dummerston\, VT\, United States
CATEGORIES:adults,book club
END:VEVENT
BEGIN:VEVENT
DTSTART;TZID=America/New_York:20260818T173000
DTEND;TZID=America/New_York:20260818T183000
DTSTAMP:20260424T153449
CREATED:20260416T183550Z
LAST-MODIFIED:20260416T183550Z
UID:2909-1787074200-1787077800@dummerstonlibrary.org
SUMMARY:Community Cookbook Club
DESCRIPTION:Tuesday\, August 18th from 5:30pm-6:30pm. Picnic/Sandwich Theme (with a grill available). \nA cookbook club is like a traditional book club\, but instead of talking about a book you’ve all read\, you all make and bring a recipe from a cookbook. Everyone is welcome at the cookbook club\, even if you didn’t cook anything!
URL:https://dummerstonlibrary.org/event/community-cookbook-club/
LOCATION:Dummerston Community Center and Library\, 150 West Street\, Dummerston\, VT\, United States
CATEGORIES:adults,book club,families
END:VEVENT
END:VCALENDAR