BEGIN:VCALENDAR
VERSION:2.0
PRODID:-//Dummerston Library - ECPv6.15.16//NONSGML v1.0//EN
CALSCALE:GREGORIAN
METHOD:PUBLISH
X-ORIGINAL-URL:https://dummerstonlibrary.org
X-WR-CALDESC:Events for Dummerston Library
REFRESH-INTERVAL;VALUE=DURATION:PT1H
X-Robots-Tag:noindex
X-PUBLISHED-TTL:PT1H
BEGIN:VTIMEZONE
TZID:America/New_York
BEGIN:DAYLIGHT
TZOFFSETFROM:-0500
TZOFFSETTO:-0400
TZNAME:EDT
DTSTART:20250309T070000
END:DAYLIGHT
BEGIN:STANDARD
TZOFFSETFROM:-0400
TZOFFSETTO:-0500
TZNAME:EST
DTSTART:20251102T060000
END:STANDARD
BEGIN:DAYLIGHT
TZOFFSETFROM:-0500
TZOFFSETTO:-0400
TZNAME:EDT
DTSTART:20260308T070000
END:DAYLIGHT
BEGIN:STANDARD
TZOFFSETFROM:-0400
TZOFFSETTO:-0500
TZNAME:EST
DTSTART:20261101T060000
END:STANDARD
BEGIN:DAYLIGHT
TZOFFSETFROM:-0500
TZOFFSETTO:-0400
TZNAME:EDT
DTSTART:20270314T070000
END:DAYLIGHT
BEGIN:STANDARD
TZOFFSETFROM:-0400
TZOFFSETTO:-0500
TZNAME:EST
DTSTART:20271107T060000
END:STANDARD
END:VTIMEZONE
BEGIN:VEVENT
DTSTART;TZID=America/New_York:20260502T130000
DTEND;TZID=America/New_York:20260502T140000
DTSTAMP:20260424T114454
CREATED:20260404T160818Z
LAST-MODIFIED:20260415T175005Z
UID:2855-1777726800-1777730400@dummerstonlibrary.org
SUMMARY:Lydia Taft Pratt Book Club
DESCRIPTION:Saturday\, May 2nd.  \n1:00pm-2:00pm \nApril’s book club pick is The Talented Mr. Ripley by Patrica Highsmith. New members are always welcome at the book club! The book club meets on the last Saturday of the month. We’d love to have YOU at our book club! Hope to see you soon! \n  \n*This meeting was rescheduled to May 2nd. \n  \nThe May pick is The Tea Girl of Hummingbird Lane by Lisa See. The May meeting is on May 30th.
URL:https://dummerstonlibrary.org/event/lydia-pratt-taft-book-club/
LOCATION:Dummerston Community Center and Library\, 150 West Street\, Dummerston\, VT\, United States
CATEGORIES:adults,book club
END:VEVENT
BEGIN:VEVENT
DTSTART;TZID=America/New_York:20260504T103000
DTEND;TZID=America/New_York:20260504T233000
DTSTAMP:20260424T114454
CREATED:20260419T200705Z
LAST-MODIFIED:20260419T201006Z
UID:2915-1777890600-1777937400@dummerstonlibrary.org
SUMMARY:Sensory Playtime
DESCRIPTION:Monday\, May 4\, 11\, 18 \n10:30am-11:30am \nInfants 0-24 months \n  \nOpen play designed for ages 0–24 months (siblings welcome!). Sensory play supports the development of creativity\, fine & gross motor skills\, cognitive development\, and social & emotional development. Held outdoors in nice weather. \n  \nNo Sensory Playtime May 25; we are closed for Memorial Day.
URL:https://dummerstonlibrary.org/event/sensory-playtime-17/
LOCATION:Dummerston Community Center and Library\, 150 West Street\, Dummerston\, VT\, United States
CATEGORIES:babies & toddlers,children,families
END:VEVENT
BEGIN:VEVENT
DTSTART;TZID=America/New_York:20260509T100000
DTEND;TZID=America/New_York:20260509T140000
DTSTAMP:20260424T114454
CREATED:20260419T201502Z
LAST-MODIFIED:20260419T201502Z
UID:2925-1778320800-1778335200@dummerstonlibrary.org
SUMMARY:Building Saturday
DESCRIPTION:2nd Saturday of the month\, 10:00am to 2:00pm\nDrop in for creative construction activities with blocks and other building materials. For children of all ages and their caregivers.
URL:https://dummerstonlibrary.org/event/building-saturday-2/
LOCATION:Dummerston Community Center and Library\, 150 West Street\, Dummerston\, VT\, United States
CATEGORIES:adults,babies & toddlers,children,families,tweens/teens
END:VEVENT
BEGIN:VEVENT
DTSTART;TZID=America/New_York:20260511T103000
DTEND;TZID=America/New_York:20260511T233000
DTSTAMP:20260424T114454
CREATED:20260419T200759Z
LAST-MODIFIED:20260419T201038Z
UID:2917-1778495400-1778542200@dummerstonlibrary.org
SUMMARY:Sensory Playtime
DESCRIPTION:Monday\, May 4\, 11\, 18 \n10:30am-11:30am \nInfants 0-24 months \n  \nOpen play designed for ages 0–24 months (siblings welcome!). Sensory play supports the development of creativity\, fine & gross motor skills\, cognitive development\, and social & emotional development. Held outdoors in nice weather. \n  \nNo Sensory Playtime May 25; we are closed for Memorial Day.
URL:https://dummerstonlibrary.org/event/sensory-playtime-18/
LOCATION:Dummerston Community Center and Library\, 150 West Street\, Dummerston\, VT\, United States
CATEGORIES:babies & toddlers,children,families
END:VEVENT
BEGIN:VEVENT
DTSTART;TZID=America/New_York:20260512T160000
DTEND;TZID=America/New_York:20260512T180000
DTSTAMP:20260424T114454
CREATED:20260419T203253Z
LAST-MODIFIED:20260419T203327Z
UID:2927-1778601600-1778608800@dummerstonlibrary.org
SUMMARY:Magic: The Gathering Play & Learn Club
DESCRIPTION:Tuesday\, May 12 and 26 \n4:00pm-6:00pm \nAges 8-14 \nThis drop-in group will meet on the second and fourth Tuesday of each month at the Dummerston Community Center and Library. No prior experience needed—just bring your curiosity and a love for strategy! Join us to cast spells\, summon creatures\, and battle your way to becoming a planeswalker! Hosted by math teacher and MTG enthusiast Ryan Kripp. Cards provided by MagiKids.
URL:https://dummerstonlibrary.org/event/2927/
LOCATION:Dummerston Community Center and Library\, 150 West Street\, Dummerston\, VT\, United States
CATEGORIES:children,tweens/teens
END:VEVENT
BEGIN:VEVENT
DTSTART;TZID=America/New_York:20260516T100000
DTEND;TZID=America/New_York:20260516T130000
DTSTAMP:20260424T114454
CREATED:20260412T181529Z
LAST-MODIFIED:20260412T181529Z
UID:2878-1778925600-1778936400@dummerstonlibrary.org
SUMMARY:Geranium Festival and Book Sale
DESCRIPTION:The library is accepting book donations at this time for the upcoming Geranium Festival and Book Sale on Saturday\, May 16 from 10 a.m. to 1 p.m.
URL:https://dummerstonlibrary.org/event/geranium-festival-and-book-sale/
LOCATION:Dummerston Community Center and Library\, 150 West Street\, Dummerston\, VT\, United States
CATEGORIES:adults,babies & toddlers,children,families,lydia's friends,special events,tweens/teens
END:VEVENT
BEGIN:VEVENT
DTSTART;TZID=America/New_York:20260518T103000
DTEND;TZID=America/New_York:20260518T233000
DTSTAMP:20260424T114454
CREATED:20260419T200833Z
LAST-MODIFIED:20260419T201101Z
UID:2919-1779100200-1779147000@dummerstonlibrary.org
SUMMARY:Sensory Playtime
DESCRIPTION:Monday\, May 4\, 11\, 18 \n10:30am-11:30am \nInfants 0-24 months \n  \nOpen play designed for ages 0–24 months (siblings welcome!). Sensory play supports the development of creativity\, fine & gross motor skills\, cognitive development\, and social & emotional development. Held outdoors in nice weather. \nNo Sensory Playtime May 25; we are closed for Memorial Day.
URL:https://dummerstonlibrary.org/event/sensory-playtime-19/
LOCATION:Dummerston Community Center and Library\, 150 West Street\, Dummerston\, VT\, United States
CATEGORIES:babies & toddlers,children,families
END:VEVENT
BEGIN:VEVENT
DTSTART;TZID=America/New_York:20260519T173000
DTEND;TZID=America/New_York:20260519T183000
DTSTAMP:20260424T114454
CREATED:20260416T171122Z
LAST-MODIFIED:20260416T183230Z
UID:2903-1779211800-1779215400@dummerstonlibrary.org
SUMMARY:Cookbook Club
DESCRIPTION:Tuesday\, May 19th from 5:30pm-6:30pm \nA cookbook club is like a traditional book club\, but instead of talking about a book you’ve all read\, you all make and bring a recipe from a cookbook. Everyone is welcome at the cookbook club\, even if you didn’t cook anything! May’s theme is America’s Test Kitchen! \n  \nJune: June 23rd. Theme TBD. \nJuly: There will be no July Cookbook Club. \nAugust: August 18th will be a Community Cookbook Club. Picnic/Sandwich Theme (with a grill available).
URL:https://dummerstonlibrary.org/event/cookbook-club-5/
LOCATION:Dummerston Community Center and Library\, 150 West Street\, Dummerston\, VT\, United States
CATEGORIES:adults
END:VEVENT
BEGIN:VEVENT
DTSTART;TZID=America/New_York:20260523T100000
DTEND;TZID=America/New_York:20260523T140000
DTSTAMP:20260424T114454
CREATED:20260419T195920Z
LAST-MODIFIED:20260419T195920Z
UID:2913-1779530400-1779544800@dummerstonlibrary.org
SUMMARY:Library Closed
DESCRIPTION:Closed for Memorial Day weekend.
URL:https://dummerstonlibrary.org/event/library-closed-8/
LOCATION:Dummerston Community Center and Library\, 150 West Street\, Dummerston\, VT\, United States
CATEGORIES:closures
END:VEVENT
BEGIN:VEVENT
DTSTART;TZID=America/New_York:20260525T100000
DTEND;TZID=America/New_York:20260525T150000
DTSTAMP:20260424T114454
CREATED:20260419T195837Z
LAST-MODIFIED:20260419T200024Z
UID:2911-1779703200-1779721200@dummerstonlibrary.org
SUMMARY:Library Closed
DESCRIPTION:Closed for Memorial Day
URL:https://dummerstonlibrary.org/event/library-closed-7/
LOCATION:Dummerston Community Center and Library\, 150 West Street\, Dummerston\, VT\, United States
CATEGORIES:closures
END:VEVENT
BEGIN:VEVENT
DTSTART;TZID=America/New_York:20260526T160000
DTEND;TZID=America/New_York:20260526T180000
DTSTAMP:20260424T114454
CREATED:20260419T203416Z
LAST-MODIFIED:20260419T203416Z
UID:2931-1779811200-1779818400@dummerstonlibrary.org
SUMMARY:Magic: The Gathering Play & Learn Club
DESCRIPTION:Tuesday\, May 12 and 26 \n4:00pm-6:00pm \nAges 8-14 \nThis drop-in group will meet on the second and fourth Tuesday of each month at the Dummerston Community Center and Library. No prior experience needed—just bring your curiosity and a love for strategy! Join us to cast spells\, summon creatures\, and battle your way to becoming a planeswalker! Hosted by math teacher and MTG enthusiast Ryan Kripp. Cards provided by MagiKids.
URL:https://dummerstonlibrary.org/event/magic-the-gathering-play-learn-club/
LOCATION:Dummerston Community Center and Library\, 150 West Street\, Dummerston\, VT\, United States
CATEGORIES:children,tweens/teens
END:VEVENT
BEGIN:VEVENT
DTSTART;TZID=America/New_York:20260530T130000
DTEND;TZID=America/New_York:20260530T140000
DTSTAMP:20260424T114454
CREATED:20260415T175147Z
LAST-MODIFIED:20260415T175202Z
UID:2900-1780146000-1780149600@dummerstonlibrary.org
SUMMARY:Lydia Taft Pratt Book Club
DESCRIPTION:Saturday\, May 30th.. \n1:00pm-2:00pm \nMay’s book club pick is The Tea Girl of Hummingbird Lane by Lisa See. New members are always welcome at the book club! The book club meets on the last Saturday of the month. We’d love to have YOU at our book club! Hope to see you soon!
URL:https://dummerstonlibrary.org/event/2900/
LOCATION:Dummerston Community Center and Library\, 150 West Street\, Dummerston\, VT\, United States
CATEGORIES:adults,book club
END:VEVENT
END:VCALENDAR